BEGIN:VCALENDAR
VERSION:2.0
PRODID:spatie/icalendar-generator
DESCRIPTION:Events from Knights of Columbus
X-WR-CALDESC:Events from Knights of Columbus
REFRESH-INTERVAL;VALUE=DURATION:PT1440M
X-PUBLISHED-TTL:PT1440M
BEGIN:VTIMEZONE
TZID:Etc/GMT+0
BEGIN:STANDARD
DTSTART:20250727T080000Z
TZOFFSETFROM:+0000
TZOFFSETTO:+0000
END:STANDARD
END:VTIMEZONE
BEGIN:VTIMEZONE
TZID:UTC
BEGIN:STANDARD
DTSTART:20250727T154821Z
TZOFFSETFROM:+0000
TZOFFSETTO:+0000
END:STANDARD
END:VTIMEZONE
BEGIN:VEVENT
UID:268-181
DTSTAMP:20260423T154821Z
SUMMARY:Mass\, Rosary after Mass - St. Patrick Church
LOCATION:
ORGANIZER;CN=adminDiane123:MAILTO:dddldowney@gmail.com
DTSTART;TZID=Etc/GMT+0:20260423T080000
DTEND;TZID=Etc/GMT+0:20260423T090000
X-ALT-DESC;FMTTYPE=TEXT/HTML:
CATEGORIES:General
URL;VALUE=URI:https://kofc470.org/mc-events/mass-rosary-after-mass-st-patri
 ck-church/
METHOD:PUBLISH
END:VEVENT
END:VCALENDAR