BEGIN:VCALENDAR
VERSION:2.0
PRODID:spatie/icalendar-generator
DESCRIPTION:Events from Knights of Columbus
X-WR-CALDESC:Events from Knights of Columbus
REFRESH-INTERVAL;VALUE=DURATION:PT1440M
X-PUBLISHED-TTL:PT1440M
BEGIN:VTIMEZONE
TZID:Etc/GMT+0
BEGIN:STANDARD
DTSTART:20250722T170000Z
TZOFFSETFROM:+0000
TZOFFSETTO:+0000
END:STANDARD
END:VTIMEZONE
BEGIN:VTIMEZONE
TZID:UTC
BEGIN:STANDARD
DTSTART:20250727T171735Z
TZOFFSETFROM:+0000
TZOFFSETTO:+0000
END:STANDARD
END:VTIMEZONE
BEGIN:VEVENT
UID:271-184
DTSTAMP:20260423T171735Z
SUMMARY:Pasta Dinner benefitting Cathedral of Peter @ St. Peter Fellowship 
 Hall
LOCATION:
ORGANIZER;CN=adminDiane123:MAILTO:dddldowney@gmail.com
DTSTART;TZID=Etc/GMT+0:20260418T170000
DTEND;TZID=Etc/GMT+0:20260418T180000
X-ALT-DESC;FMTTYPE=TEXT/HTML:More Here
CATEGORIES:General
URL;VALUE=URI:https://kofc470.org/mc-events/pasta-dinner-benefitting-cathed
 ral-of-peter-st-peter-fellowship-hall/
METHOD:PUBLISH
END:VEVENT
END:VCALENDAR