BEGIN:VCALENDAR
VERSION:2.0
PRODID:spatie/icalendar-generator
DESCRIPTION:Events from Knights of Columbus
X-WR-CALDESC:Events from Knights of Columbus
REFRESH-INTERVAL;VALUE=DURATION:PT1440M
X-PUBLISHED-TTL:PT1440M
BEGIN:VTIMEZONE
TZID:Etc/GMT+0
BEGIN:STANDARD
DTSTART:20250726T080000Z
TZOFFSETFROM:+0000
TZOFFSETTO:+0000
END:STANDARD
END:VTIMEZONE
BEGIN:VTIMEZONE
TZID:UTC
BEGIN:STANDARD
DTSTART:20250727T172018Z
TZOFFSETFROM:+0000
TZOFFSETTO:+0000
END:STANDARD
END:VTIMEZONE
BEGIN:VEVENT
UID:267-180
DTSTAMP:20260423T172018Z
SUMMARY:Mass - Cathedral of St. Peter *Fellowship at Knights Club Hall afte
 r Mass till 10:00 am all welcome
LOCATION:
ORGANIZER;CN=adminDiane123:MAILTO:dddldowney@gmail.com
DTSTART;TZID=Etc/GMT+0:20260422T080000
DTEND;TZID=Etc/GMT+0:20260422T090000
X-ALT-DESC;FMTTYPE=TEXT/HTML:
CATEGORIES:General
URL;VALUE=URI:https://kofc470.org/mc-events/mass-cathedral-of-st-peter-fell
 owship-at-knights-club-hall-after-mass-till-1000-am-all-welcome-2/
METHOD:PUBLISH
END:VEVENT
END:VCALENDAR