BEGIN:VCALENDAR
VERSION:2.0
PRODID:spatie/icalendar-generator
DESCRIPTION:Events from Knights of Columbus
X-WR-CALDESC:Events from Knights of Columbus
REFRESH-INTERVAL;VALUE=DURATION:PT1440M
X-PUBLISHED-TTL:PT1440M
BEGIN:VTIMEZONE
TZID:Etc/GMT+0
BEGIN:STANDARD
DTSTART:20250707T170000Z
TZOFFSETFROM:+0000
TZOFFSETTO:+0000
END:STANDARD
END:VTIMEZONE
BEGIN:VTIMEZONE
TZID:UTC
BEGIN:STANDARD
DTSTART:20250727T155338Z
TZOFFSETFROM:+0000
TZOFFSETTO:+0000
END:STANDARD
END:VTIMEZONE
BEGIN:VEVENT
UID:239-153
DTSTAMP:20260423T155338Z
SUMMARY:19th Annual Lenten Fish Fry
LOCATION:
ORGANIZER;CN=adminDiane123:MAILTO:dddldowney@gmail.com
RRULE:FREQ=WEEKLY;UNTIL=20260404T000000Z
DTSTART;TZID=Etc/GMT+0:20260403T170000
DTEND;TZID=Etc/GMT+0:20260403T190000
X-ALT-DESC;FMTTYPE=TEXT/HTML:
CATEGORIES:General
URL;VALUE=URI:https://kofc470.org/mc-events/19th-annual-lenten-fish-fry/?mc
 _id=239
METHOD:PUBLISH
END:VEVENT
END:VCALENDAR